BEGIN:VCALENDAR
VERSION:2.0
PRODID:icalendar-ruby
CALSCALE:GREGORIAN
METHOD:PUBLISH
BEGIN:VEVENT
DTSTAMP:20260422T174002Z
UID:923-668367@holytrinityns.org
DTSTART:20260608T160000Z
DTEND:20260608T163000Z
CLASS:PUBLIC
CREATED:20260421T145555
DESCRIPTION:Yes! Come have breakfast with Rev. Denise on Monday mornings at
  9am in the chapel of the church. We will eat together and reflect on the 
 book "Come\, Have Breakfast. Meditations on God and the Earth." by Elizabe
 th Johnson. You can purchase the book at www.christianbook.com\n \nPhoto 
 by Ezequiel Barreiro on Unsplash
LAST-MODIFIED:20260421T145555
LOCATION:chapel
SUMMARY:Come\, Have Breakfast
URL;VALUE=URI:https://www.holytrinityns.org/events/come-have-breakfast/2026
 -06-08
ATTACH;FILENAME=ezequiel-barreiro-qje4uZWya14-unsplash.jpg;FMTTYPE=image/jp
 eg:https://dq5pwpg1q8ru0.cloudfront.net/2026/04/21/21/55/54/e2b516d1-c71e-
 4c1a-b50d-52c90a42469f/ezequiel-barreiro-qje4uZWya14-unsplash.jpg
END:VEVENT
END:VCALENDAR
